{"text_format":"1","workbook":"xlsx","n_sheets":4,"sheets":["Values","WorkSheet","Answers","Working"],"not_rendered":{"charts":0,"images":0,"macros":1,"external_links":0,"defined_names":0,"comments":0,"pivot_tables":0},"unopened":[],"bounds":{"document_bytes":16777216,"sheet_cells":100000,"rows_first":2000,"rows_last":500,"rows_between":2000,"halvings":0,"cell_chars":16384,"cell_head_chars":4096},"cells_cut":0,"cells_raw":0,"read":"whole","date_system":"1900"}

{"sheet":"Values","index":0,"n_rows":17,"n_cols":9,"rows_kept":17,"cut":false,"hidden":false,"merged":[[12,2,12,4],[14,2,14,6],[14,8,18,9],[16,2,19,7],[3,2,3,6],[5,2,6,7],[7,2,7,4],[9,2,10,7]]}
[null,null,null,null,"MULTIPLICATION"]
[null,null,null,null,"of decimals by a decimal"]
[]
[null,null,"INSTRUCTIONS"]
[]
[null,"Step 1","The number digits to be used in the multiplier for this sheet is 1. Enter the maximum multiplier ≥ 2 and ≤ 9 ."]
[]
[null,null,"Maximum Multiplier"]
[]
[null,"Step 2","Enter the number digits to be used in the multiplicand for this sheet. (A whole number >1 and ≤6)"]
[]
[]
[null,null,"Digits in Multiplicand"]
[]
[null,"Step 3","Click on WorkSheet tab below.",null,null,null,null,null,"PRESS F9 for NEW WorkSheet"]
[]
[null,"Note","If you hold down shift then click on the WorkSheet tab and the Answers tab, you will be able to print both the WorkSheet and the solutions."]

{"sheet":"WorkSheet","index":1,"n_rows":33,"n_cols":12,"rows_kept":33,"cut":false,"hidden":false,"merged":[]}
[null,null,null,null,null,"MULTIPLICATION"]
[null,null,null,null,null,null,null,null,null,{"$f":"CONCATENATE(\"Worksheet \",Working!C1,Working!B1)","v":"Worksheet SMD-991"}]
["Evaluate the following;"]
[{"$f":"Working!C4","v":"1)"},{"$f":"Working!N4","v":0},"×",{"$f":"Working!$C12","v":"9)"},{"$f":"Working!$N12","v":0},"×",{"$f":"Working!$C20","v":"17)"},{"$f":"Working!$N20","v":0},"×",{"$f":"Working!$C28","v":"25)"},{"$f":"Working!$N28","v":0},"×"]
[null,{"$f":"Working!F4","v":0.01},null,null,{"$f":"Working!$F12","v":0.1},null,null,{"$f":"Working!$F20","v":0.1},null,null,{"$f":"Working!$F28","v":0.1}]
[]
[]
[{"$f":"Working!C5","v":"2)"},{"$f":"Working!N5","v":0},"×",{"$f":"Working!$C13","v":"10)"},{"$f":"Working!$N13","v":0},"×",{"$f":"Working!$C21","v":"18)"},{"$f":"Working!$N21","v":0},"×",{"$f":"Working!$C29","v":"26)"},{"$f":"Working!$N29","v":0},"×"]
[null,{"$f":"Working!F5","v":0.1},null,null,{"$f":"Working!$F13","v":0.1},null,null,{"$f":"Working!$F21","v":0.01},null,null,{"$f":"Working!$F29","v":0.01}]
[]
[]
[{"$f":"Working!C6","v":"3)"},{"$f":"Working!N6","v":0},"×",{"$f":"Working!$C14","v":"11)"},{"$f":"Working!$N14","v":0},"×",{"$f":"Working!$C22","v":"19)"},{"$f":"Working!$N22","v":0},"×",{"$f":"Working!$C30","v":"27)"},{"$f":"Working!$N30","v":0},"×"]
[null,{"$f":"Working!F6","v":0.01},null,null,{"$f":"Working!$F14","v":0.1},null,null,{"$f":"Working!$F22","v":0.1},null,null,{"$f":"Working!$F30","v":0.01}]
[]
[]
[{"$f":"Working!C7","v":"4)"},{"$f":"Working!N7","v":0},"×",{"$f":"Working!$C15","v":"12)"},{"$f":"Working!$N15","v":0},"×",{"$f":"Working!$C23","v":"20)"},{"$f":"Working!$N23","v":0},"×",{"$f":"Working!$C31","v":"28)"},{"$f":"Working!$N31","v":0},"×"]
[null,{"$f":"Working!F7","v":0.1},null,null,{"$f":"Working!$F15","v":0.01},null,null,{"$f":"Working!$F23","v":0.01},null,null,{"$f":"Working!$F31","v":0.01}]
[]
[]
[{"$f":"Working!C8","v":"5)"},{"$f":"Working!N8","v":0},"×",{"$f":"Working!$C16","v":"13)"},{"$f":"Working!$N16","v":0},"×",{"$f":"Working!$C24","v":"21)"},{"$f":"Working!$N24","v":0},"×",{"$f":"Working!$C32","v":"29)"},{"$f":"Working!$N32","v":0},"×"]
[null,{"$f":"Working!F8","v":0.1},null,null,{"$f":"Working!$F16","v":0.1},null,null,{"$f":"Working!$F24","v":0.01},null,null,{"$f":"Working!$F32","v":0.1}]
[]
[]
[{"$f":"Working!C9","v":"6)"},{"$f":"Working!N9","v":0},"×",{"$f":"Working!$C17","v":"14)"},{"$f":"Working!$N17","v":0},"×",{"$f":"Working!$C25","v":"22)"},{"$f":"Working!$N25","v":0},"×",{"$f":"Working!$C33","v":"30)"},{"$f":"Working!$N33","v":0},"×"]
[null,{"$f":"Working!F9","v":0.01},null,null,{"$f":"Working!$F17","v":0.01},null,null,{"$f":"Working!$F25","v":0.1},null,null,{"$f":"Working!$F33","v":0.01}]
[]
[]
[{"$f":"Working!C10","v":"7)"},{"$f":"Working!N10","v":0},"×",{"$f":"Working!$C18","v":"15)"},{"$f":"Working!$N18","v":0},"×",{"$f":"Working!$C26","v":"23)"},{"$f":"Working!$N26","v":0},"×"]
[null,{"$f":"Working!F10","v":0.01},null,null,{"$f":"Working!$F18","v":0.1},null,null,{"$f":"Working!$F26","v":0.1}]
[]
[]
[{"$f":"Working!C11","v":"8)"},{"$f":"Working!N11","v":0},"×",{"$f":"Working!$C19","v":"16)"},{"$f":"Working!$N19","v":0},"×",{"$f":"Working!$C27","v":"24)"},{"$f":"Working!$N27","v":0},"×"]
[null,{"$f":"Working!F11","v":0.01},null,null,{"$f":"Working!$F19","v":0.1},null,null,{"$f":"Working!$F27","v":0.01}]

{"sheet":"Answers","index":2,"n_rows":34,"n_cols":12,"rows_kept":34,"cut":false,"hidden":false,"merged":[]}
[null,null,null,null,null,"MULTIPLICATION"]
[null,null,null,null,null,"ANSWERS",null,null,null,{"$f":"CONCATENATE(\"Worksheet \",Working!C1,Working!B1)","v":"Worksheet SMD-991"}]
["Evaluate the following;"]
[{"$f":"Working!C4","v":"1)"},{"$f":"Working!N4","v":0},"×",{"$f":"Working!$C12","v":"9)"},{"$f":"Working!$N12","v":0},"×",{"$f":"Working!$C20","v":"17)"},{"$f":"Working!$N20","v":0},"×",{"$f":"Working!$C28","v":"25)"},{"$f":"Working!$N28","v":0},"×"]
[null,{"$f":"Working!F4","v":0.01},null,null,{"$f":"Working!$F12","v":0.1},null,null,{"$f":"Working!$F20","v":0.1},null,null,{"$f":"Working!$F28","v":0.1}]
[null,{"$f":"Working!O4","v":".00"},null,null,{"$f":"Working!$O12","v":"0.0"},null,null,{"$f":"Working!$O20","v":"0.0"},null,null,{"$f":"Working!$O28","v":"0.0"}]
[]
[{"$f":"Working!C5","v":"2)"},{"$f":"Working!N5","v":0},"×",{"$f":"Working!$C13","v":"10)"},{"$f":"Working!$N13","v":0},"×",{"$f":"Working!$C21","v":"18)"},{"$f":"Working!$N21","v":0},"×",{"$f":"Working!$C29","v":"26)"},{"$f":"Working!$N29","v":0},"×"]
[null,{"$f":"Working!F5","v":0.1},null,null,{"$f":"Working!$F13","v":0.1},null,null,{"$f":"Working!$F21","v":0.01},null,null,{"$f":"Working!$F29","v":0.01}]
[null,{"$f":"Working!O5","v":"0.0"},null,null,{"$f":"Working!$O13","v":"0.0"},null,null,{"$f":"Working!$O21","v":".00"},null,null,{"$f":"Working!$O29","v":".00"}]
[]
[{"$f":"Working!C6","v":"3)"},{"$f":"Working!N6","v":0},"×",{"$f":"Working!$C14","v":"11)"},{"$f":"Working!$N14","v":0},"×",{"$f":"Working!$C22","v":"19)"},{"$f":"Working!$N22","v":0},"×",{"$f":"Working!$C30","v":"27)"},{"$f":"Working!$N30","v":0},"×"]
[null,{"$f":"Working!F6","v":0.01},null,null,{"$f":"Working!$F14","v":0.1},null,null,{"$f":"Working!$F22","v":0.1},null,null,{"$f":"Working!$F30","v":0.01}]
[null,{"$f":"Working!O6","v":".00"},null,null,{"$f":"Working!$O14","v":"0.0"},null,null,{"$f":"Working!$O22","v":"0.0"},null,null,{"$f":"Working!$O30","v":".00"}]
[]
[{"$f":"Working!C7","v":"4)"},{"$f":"Working!N7","v":0},"×",{"$f":"Working!$C15","v":"12)"},{"$f":"Working!$N15","v":0},"×",{"$f":"Working!$C23","v":"20)"},{"$f":"Working!$N23","v":0},"×",{"$f":"Working!$C31","v":"28)"},{"$f":"Working!$N31","v":0},"×"]
[null,{"$f":"Working!F7","v":0.1},null,null,{"$f":"Working!$F15","v":0.01},null,null,{"$f":"Working!$F23","v":0.01},null,null,{"$f":"Working!$F31","v":0.01}]
[null,{"$f":"Working!O7","v":"0.0"},null,null,{"$f":"Working!$O15","v":".00"},null,null,{"$f":"Working!$O23","v":".00"},null,null,{"$f":"Working!$O31","v":".00"}]
[]
[{"$f":"Working!C8","v":"5)"},{"$f":"Working!N8","v":0},"×",{"$f":"Working!$C16","v":"13)"},{"$f":"Working!$N16","v":0},"×",{"$f":"Working!$C24","v":"21)"},{"$f":"Working!$N24","v":0},"×",{"$f":"Working!$C32","v":"29)"},{"$f":"Working!$N32","v":0},"×"]
[null,{"$f":"Working!F8","v":0.1},null,null,{"$f":"Working!$F16","v":0.1},null,null,{"$f":"Working!$F24","v":0.01},null,null,{"$f":"Working!$F32","v":0.1}]
[null,{"$f":"Working!O8","v":"0.0"},null,null,{"$f":"Working!$O16","v":"0.0"},null,null,{"$f":"Working!$O24","v":".00"},null,null,{"$f":"Working!$O32","v":"0.0"}]
[]
[{"$f":"Working!C9","v":"6)"},{"$f":"Working!N9","v":0},"×",{"$f":"Working!$C17","v":"14)"},{"$f":"Working!$N17","v":0},"×",{"$f":"Working!$C25","v":"22)"},{"$f":"Working!$N25","v":0},"×",{"$f":"Working!$C33","v":"30)"},{"$f":"Working!$N33","v":0},"×"]
[null,{"$f":"Working!F9","v":0.01},null,null,{"$f":"Working!$F17","v":0.01},null,null,{"$f":"Working!$F25","v":0.1},null,null,{"$f":"Working!$F33","v":0.01}]
[null,{"$f":"Working!O9","v":".00"},null,null,{"$f":"Working!$O17","v":".00"},null,null,{"$f":"Working!$O25","v":"0.0"},null,null,{"$f":"Working!$O33","v":".00"}]
[]
[{"$f":"Working!C10","v":"7)"},{"$f":"Working!N10","v":0},"×",{"$f":"Working!$C18","v":"15)"},{"$f":"Working!$N18","v":0},"×",{"$f":"Working!$C26","v":"23)"},{"$f":"Working!$N26","v":0},"×"]
[null,{"$f":"Working!F10","v":0.01},null,null,{"$f":"Working!$F18","v":0.1},null,null,{"$f":"Working!$F26","v":0.1}]
[null,{"$f":"Working!O10","v":".00"},null,null,{"$f":"Working!$O18","v":"0.0"},null,null,{"$f":"Working!$O26","v":"0.0"}]
[]
[{"$f":"Working!C11","v":"8)"},{"$f":"Working!N11","v":0},"×",{"$f":"Working!$C19","v":"16)"},{"$f":"Working!$N19","v":0},"×",{"$f":"Working!$C27","v":"24)"},{"$f":"Working!$N27","v":0},"×"]
[null,{"$f":"Working!F11","v":0.01},null,null,{"$f":"Working!$F19","v":0.1},null,null,{"$f":"Working!$F27","v":0.01}]
[null,{"$f":"Working!O11","v":".00"},null,null,{"$f":"Working!$O19","v":"0.0"},null,null,{"$f":"Working!$O27","v":".00"}]

{"sheet":"Working","index":3,"n_rows":103,"n_cols":16,"rows_kept":103,"cut":false,"hidden":true,"merged":[[1,13,1,14],[1,15,1,21]]}
[{"$f":"INT(900*RAND()+100)","v":990},{"$f":"TEXT(1,A1)","v":"991"},"SMD-"]
[null,null,null,null,null,null,null,null,null,null,null,null,null,"Numbers",null,"Text"]
[null,null,null,null,null,"Multiplier",null,null,null,null,null,null,null,"Multiplicand","Product"]
[1,")",{"$f":"CONCATENATE(A4,B4)","v":"1)"},{"$f":"INT(((Values!$F$8-1)*RAND()+2))","v":1},{"$f":"INT(2*RAND()+1)","v":2},{"$f":"D4*10^(-E4)","v":0.01},{"$f":"INT((10^(Values!$F$13)-10^(Values!$F$13-1))*RAND()+(10^(Values!$F$13-1)))","v":0},{"$f":"D4*G4","v":0},{"$f":"LEN(H4)","v":1},{"$f":"10^(INT((Values!$F$13-1)*RAND())+1)","v":1},{"$f":"LEN(J4-1)","v":1},{"$f":"I4-K4-E4 +1","v":-1},{"$f":"G4/J4","v":0},{"$f":"IF(INT(M4)=M4,M4/10,M4)","v":0},{"$f":"IF(L4>1,REPLACE(H4,L4,0,\".\"),IF(L4=1,REPLACE(CONCATENATE(0,H4),L4+1,0,\".\"),REPLACE(CONCATENATE(0,H4),L4+2,0,\".\")))","v":".00"}]
[2,")",{"$f":"CONCATENATE(A5,B5)","v":"2)"},{"$f":"INT(((Values!$F$8-1)*RAND()+2))","v":1},{"$f":"INT(2*RAND()+1)","v":1},{"$f":"D5*10^(-E5)","v":0.1},{"$f":"INT((10^(Values!$F$13)-10^(Values!$F$13-1))*RAND()+(10^(Values!$F$13-1)))","v":0},{"$f":"D5*G5","v":0},{"$f":"LEN(H5)","v":1},{"$f":"10^(INT((Values!$F$13-1)*RAND())+1)","v":1},{"$f":"LEN(J5-1)","v":1},{"$f":"I5-K5-E5 +1","v":0},{"$f":"G5/J5","v":0},{"$f":"IF(INT(M5)=M5,M5/10,M5)","v":0},{"$f":"IF(L5>1,REPLACE(H5,L5,0,\".\"),IF(L5=1,REPLACE(CONCATENATE(0,H5),L5+1,0,\".\"),REPLACE(CONCATENATE(0,H5),L5+2,0,\".\")))","v":"0.0"}]
[3,")","3)",{"$f":"INT(((Values!$F$8-1)*RAND()+2))","v":1},2,0.01,{"$f":"INT((10^(Values!$F$13)-10^(Values!$F$13-1))*RAND()+(10^(Values!$F$13-1)))","v":0},0,1,{"$f":"10^(INT((Values!$F$13-1)*RAND())+1)","v":1},1,-1,0,0,".00"]
[4,")","4)",{"$f":"INT(((Values!$F$8-1)*RAND()+2))","v":1},1,0.1,{"$f":"INT((10^(Values!$F$13)-10^(Values!$F$13-1))*RAND()+(10^(Values!$F$13-1)))","v":0},0,1,{"$f":"10^(INT((Values!$F$13-1)*RAND())+1)","v":1},1,0,0,0,"0.0"]
[5,")","5)",{"$f":"INT(((Values!$F$8-1)*RAND()+2))","v":1},1,0.1,{"$f":"INT((10^(Values!$F$13)-10^(Values!$F$13-1))*RAND()+(10^(Values!$F$13-1)))","v":0},0,1,{"$f":"10^(INT((Values!$F$13-1)*RAND())+1)","v":1},1,0,0,0,"0.0"]
[6,")","6)",{"$f":"INT(((Values!$F$8-1)*RAND()+2))","v":1},2,0.01,{"$f":"INT((10^(Values!$F$13)-10^(Values!$F$13-1))*RAND()+(10^(Values!$F$13-1)))","v":0},0,1,{"$f":"10^(INT((Values!$F$13-1)*RAND())+1)","v":1},1,-1,0,0,".00"]
[7,")","7)",{"$f":"INT(((Values!$F$8-1)*RAND()+2))","v":1},2,0.01,{"$f":"INT((10^(Values!$F$13)-10^(Values!$F$13-1))*RAND()+(10^(Values!$F$13-1)))","v":0},0,1,{"$f":"10^(INT((Values!$F$13-1)*RAND())+1)","v":1},1,-1,0,0,".00"]
[8,")","8)",{"$f":"INT(((Values!$F$8-1)*RAND()+2))","v":1},2,0.01,{"$f":"INT((10^(Values!$F$13)-10^(Values!$F$13-1))*RAND()+(10^(Values!$F$13-1)))","v":0},0,1,{"$f":"10^(INT((Values!$F$13-1)*RAND())+1)","v":1},1,-1,0,0,".00"]
[9,")","9)",{"$f":"INT(((Values!$F$8-1)*RAND()+2))","v":1},1,0.1,{"$f":"INT((10^(Values!$F$13)-10^(Values!$F$13-1))*RAND()+(10^(Values!$F$13-1)))","v":0},0,1,{"$f":"10^(INT((Values!$F$13-1)*RAND())+1)","v":1},1,0,0,0,"0.0"]
[10,")","10)",{"$f":"INT(((Values!$F$8-1)*RAND()+2))","v":1},1,0.1,{"$f":"INT((10^(Values!$F$13)-10^(Values!$F$13-1))*RAND()+(10^(Values!$F$13-1)))","v":0},0,1,{"$f":"10^(INT((Values!$F$13-1)*RAND())+1)","v":1},1,0,0,0,"0.0"]
[11,")","11)",{"$f":"INT(((Values!$F$8-1)*RAND()+2))","v":1},1,0.1,{"$f":"INT((10^(Values!$F$13)-10^(Values!$F$13-1))*RAND()+(10^(Values!$F$13-1)))","v":0},0,1,{"$f":"10^(INT((Values!$F$13-1)*RAND())+1)","v":1},1,0,0,0,"0.0"]
[12,")","12)",{"$f":"INT(((Values!$F$8-1)*RAND()+2))","v":1},2,0.01,{"$f":"INT((10^(Values!$F$13)-10^(Values!$F$13-1))*RAND()+(10^(Values!$F$13-1)))","v":0},0,1,{"$f":"10^(INT((Values!$F$13-1)*RAND())+1)","v":1},1,-1,0,0,".00"]
[13,")","13)",{"$f":"INT(((Values!$F$8-1)*RAND()+2))","v":1},1,0.1,{"$f":"INT((10^(Values!$F$13)-10^(Values!$F$13-1))*RAND()+(10^(Values!$F$13-1)))","v":0},0,1,{"$f":"10^(INT((Values!$F$13-1)*RAND())+1)","v":1},1,0,0,0,"0.0"]
[14,")","14)",{"$f":"INT(((Values!$F$8-1)*RAND()+2))","v":1},2,0.01,{"$f":"INT((10^(Values!$F$13)-10^(Values!$F$13-1))*RAND()+(10^(Values!$F$13-1)))","v":0},0,1,{"$f":"10^(INT((Values!$F$13-1)*RAND())+1)","v":1},1,-1,0,0,".00"]
[15,")","15)",{"$f":"INT(((Values!$F$8-1)*RAND()+2))","v":1},1,0.1,{"$f":"INT((10^(Values!$F$13)-10^(Values!$F$13-1))*RAND()+(10^(Values!$F$13-1)))","v":0},0,1,{"$f":"10^(INT((Values!$F$13-1)*RAND())+1)","v":1},1,0,0,0,"0.0"]
[16,")","16)",{"$f":"INT(((Values!$F$8-1)*RAND()+2))","v":1},1,0.1,{"$f":"INT((10^(Values!$F$13)-10^(Values!$F$13-1))*RAND()+(10^(Values!$F$13-1)))","v":0},0,1,{"$f":"10^(INT((Values!$F$13-1)*RAND())+1)","v":1},1,0,0,0,"0.0"]
[17,")","17)",{"$f":"INT(((Values!$F$8-1)*RAND()+2))","v":1},1,0.1,{"$f":"INT((10^(Values!$F$13)-10^(Values!$F$13-1))*RAND()+(10^(Values!$F$13-1)))","v":0},0,1,{"$f":"10^(INT((Values!$F$13-1)*RAND())+1)","v":1},1,0,0,0,"0.0"]
[18,")","18)",{"$f":"INT(((Values!$F$8-1)*RAND()+2))","v":1},2,0.01,{"$f":"INT((10^(Values!$F$13)-10^(Values!$F$13-1))*RAND()+(10^(Values!$F$13-1)))","v":0},0,1,{"$f":"10^(INT((Values!$F$13-1)*RAND())+1)","v":1},1,-1,0,0,".00"]
[19,")","19)",{"$f":"INT(((Values!$F$8-1)*RAND()+2))","v":1},1,0.1,{"$f":"INT((10^(Values!$F$13)-10^(Values!$F$13-1))*RAND()+(10^(Values!$F$13-1)))","v":0},0,1,{"$f":"10^(INT((Values!$F$13-1)*RAND())+1)","v":1},1,0,0,0,"0.0"]
[20,")","20)",{"$f":"INT(((Values!$F$8-1)*RAND()+2))","v":1},2,0.01,{"$f":"INT((10^(Values!$F$13)-10^(Values!$F$13-1))*RAND()+(10^(Values!$F$13-1)))","v":0},0,1,{"$f":"10^(INT((Values!$F$13-1)*RAND())+1)","v":1},1,-1,0,0,".00"]
[21,")","21)",{"$f":"INT(((Values!$F$8-1)*RAND()+2))","v":1},2,0.01,{"$f":"INT((10^(Values!$F$13)-10^(Values!$F$13-1))*RAND()+(10^(Values!$F$13-1)))","v":0},0,1,{"$f":"10^(INT((Values!$F$13-1)*RAND())+1)","v":1},1,-1,0,0,".00"]
[22,")","22)",{"$f":"INT(((Values!$F$8-1)*RAND()+2))","v":1},1,0.1,{"$f":"INT((10^(Values!$F$13)-10^(Values!$F$13-1))*RAND()+(10^(Values!$F$13-1)))","v":0},0,1,{"$f":"10^(INT((Values!$F$13-1)*RAND())+1)","v":1},1,0,0,0,"0.0"]
[23,")","23)",{"$f":"INT(((Values!$F$8-1)*RAND()+2))","v":1},1,0.1,{"$f":"INT((10^(Values!$F$13)-10^(Values!$F$13-1))*RAND()+(10^(Values!$F$13-1)))","v":0},0,1,{"$f":"10^(INT((Values!$F$13-1)*RAND())+1)","v":1},1,0,0,0,"0.0"]
[24,")","24)",{"$f":"INT(((Values!$F$8-1)*RAND()+2))","v":1},2,0.01,{"$f":"INT((10^(Values!$F$13)-10^(Values!$F$13-1))*RAND()+(10^(Values!$F$13-1)))","v":0},0,1,{"$f":"10^(INT((Values!$F$13-1)*RAND())+1)","v":1},1,-1,0,0,".00"]
[25,")","25)",{"$f":"INT(((Values!$F$8-1)*RAND()+2))","v":1},1,0.1,{"$f":"INT((10^(Values!$F$13)-10^(Values!$F$13-1))*RAND()+(10^(Values!$F$13-1)))","v":0},0,1,{"$f":"10^(INT((Values!$F$13-1)*RAND())+1)","v":1},1,0,0,0,"0.0"]
[26,")","26)",{"$f":"INT(((Values!$F$8-1)*RAND()+2))","v":1},2,0.01,{"$f":"INT((10^(Values!$F$13)-10^(Values!$F$13-1))*RAND()+(10^(Values!$F$13-1)))","v":0},0,1,{"$f":"10^(INT((Values!$F$13-1)*RAND())+1)","v":1},1,-1,0,0,".00"]
[27,")","27)",{"$f":"INT(((Values!$F$8-1)*RAND()+2))","v":1},2,0.01,{"$f":"INT((10^(Values!$F$13)-10^(Values!$F$13-1))*RAND()+(10^(Values!$F$13-1)))","v":0},0,1,{"$f":"10^(INT((Values!$F$13-1)*RAND())+1)","v":1},1,-1,0,0,".00"]
[28,")","28)",{"$f":"INT(((Values!$F$8-1)*RAND()+2))","v":1},2,0.01,{"$f":"INT((10^(Values!$F$13)-10^(Values!$F$13-1))*RAND()+(10^(Values!$F$13-1)))","v":0},0,1,{"$f":"10^(INT((Values!$F$13-1)*RAND())+1)","v":1},1,-1,0,0,".00"]
[29,")","29)",{"$f":"INT(((Values!$F$8-1)*RAND()+2))","v":1},1,0.1,{"$f":"INT((10^(Values!$F$13)-10^(Values!$F$13-1))*RAND()+(10^(Values!$F$13-1)))","v":0},0,1,{"$f":"10^(INT((Values!$F$13-1)*RAND())+1)","v":1},1,0,0,0,"0.0"]
[30,")","30)",{"$f":"INT(((Values!$F$8-1)*RAND()+2))","v":1},2,0.01,{"$f":"INT((10^(Values!$F$13)-10^(Values!$F$13-1))*RAND()+(10^(Values!$F$13-1)))","v":0},0,1,{"$f":"10^(INT((Values!$F$13-1)*RAND())+1)","v":1},1,-1,0,0,".00"]
[31,")","31)",{"$f":"INT(((Values!$F$8-1)*RAND()+2))","v":1},2,0.01,{"$f":"INT((10^(Values!$F$13)-10^(Values!$F$13-1))*RAND()+(10^(Values!$F$13-1)))","v":0},0,1,{"$f":"10^(INT((Values!$F$13-1)*RAND())+1)","v":1},1,-1,0,0,".00"]
[32,")","32)",{"$f":"INT(((Values!$F$8-1)*RAND()+2))","v":1},2,0.01,{"$f":"INT((10^(Values!$F$13)-10^(Values!$F$13-1))*RAND()+(10^(Values!$F$13-1)))","v":0},0,1,{"$f":"10^(INT((Values!$F$13-1)*RAND())+1)","v":1},1,-1,0,0,".00"]
[33,")","33)",{"$f":"INT(((Values!$F$8-1)*RAND()+2))","v":1},1,0.1,{"$f":"INT((10^(Values!$F$13)-10^(Values!$F$13-1))*RAND()+(10^(Values!$F$13-1)))","v":0},0,1,{"$f":"10^(INT((Values!$F$13-1)*RAND())+1)","v":1},1,0,0,0,"0.0"]
[34,")","34)",{"$f":"INT(((Values!$F$8-1)*RAND()+2))","v":1},1,0.1,{"$f":"INT((10^(Values!$F$13)-10^(Values!$F$13-1))*RAND()+(10^(Values!$F$13-1)))","v":0},0,1,{"$f":"10^(INT((Values!$F$13-1)*RAND())+1)","v":1},1,0,0,0,"0.0"]
[35,")","35)",{"$f":"INT(((Values!$F$8-1)*RAND()+2))","v":1},1,0.1,{"$f":"INT((10^(Values!$F$13)-10^(Values!$F$13-1))*RAND()+(10^(Values!$F$13-1)))","v":0},0,1,{"$f":"10^(INT((Values!$F$13-1)*RAND())+1)","v":1},1,0,0,0,"0.0"]
[36,")","36)",{"$f":"INT(((Values!$F$8-1)*RAND()+2))","v":1},2,0.01,{"$f":"INT((10^(Values!$F$13)-10^(Values!$F$13-1))*RAND()+(10^(Values!$F$13-1)))","v":0},0,1,{"$f":"10^(INT((Values!$F$13-1)*RAND())+1)","v":1},1,-1,0,0,".00"]
[37,")","37)",{"$f":"INT(((Values!$F$8-1)*RAND()+2))","v":1},2,0.01,{"$f":"INT((10^(Values!$F$13)-10^(Values!$F$13-1))*RAND()+(10^(Values!$F$13-1)))","v":0},0,1,{"$f":"10^(INT((Values!$F$13-1)*RAND())+1)","v":1},1,-1,0,0,".00"]
[38,")","38)",{"$f":"INT(((Values!$F$8-1)*RAND()+2))","v":1},1,0.1,{"$f":"INT((10^(Values!$F$13)-10^(Values!$F$13-1))*RAND()+(10^(Values!$F$13-1)))","v":0},0,1,{"$f":"10^(INT((Values!$F$13-1)*RAND())+1)","v":1},1,0,0,0,"0.0"]
[39,")","39)",{"$f":"INT(((Values!$F$8-1)*RAND()+2))","v":1},2,0.01,{"$f":"INT((10^(Values!$F$13)-10^(Values!$F$13-1))*RAND()+(10^(Values!$F$13-1)))","v":0},0,1,{"$f":"10^(INT((Values!$F$13-1)*RAND())+1)","v":1},1,-1,0,0,".00"]
[40,")","40)",{"$f":"INT(((Values!$F$8-1)*RAND()+2))","v":1},2,0.01,{"$f":"INT((10^(Values!$F$13)-10^(Values!$F$13-1))*RAND()+(10^(Values!$F$13-1)))","v":0},0,1,{"$f":"10^(INT((Values!$F$13-1)*RAND())+1)","v":1},1,-1,0,0,".00"]
[41,")","41)",{"$f":"INT(((Values!$F$8-1)*RAND()+2))","v":1},1,0.1,{"$f":"INT((10^(Values!$F$13)-10^(Values!$F$13-1))*RAND()+(10^(Values!$F$13-1)))","v":0},0,1,{"$f":"10^(INT((Values!$F$13-1)*RAND())+1)","v":1},1,0,0,0,"0.0"]
[42,")","42)",{"$f":"INT(((Values!$F$8-1)*RAND()+2))","v":1},1,0.1,{"$f":"INT((10^(Values!$F$13)-10^(Values!$F$13-1))*RAND()+(10^(Values!$F$13-1)))","v":0},0,1,{"$f":"10^(INT((Values!$F$13-1)*RAND())+1)","v":1},1,0,0,0,"0.0"]
[43,")","43)",{"$f":"INT(((Values!$F$8-1)*RAND()+2))","v":1},1,0.1,{"$f":"INT((10^(Values!$F$13)-10^(Values!$F$13-1))*RAND()+(10^(Values!$F$13-1)))","v":0},0,1,{"$f":"10^(INT((Values!$F$13-1)*RAND())+1)","v":1},1,0,0,0,"0.0"]
[44,")","44)",{"$f":"INT(((Values!$F$8-1)*RAND()+2))","v":1},1,0.1,{"$f":"INT((10^(Values!$F$13)-10^(Values!$F$13-1))*RAND()+(10^(Values!$F$13-1)))","v":0},0,1,{"$f":"10^(INT((Values!$F$13-1)*RAND())+1)","v":1},1,0,0,0,"0.0"]
[45,")","45)",{"$f":"INT(((Values!$F$8-1)*RAND()+2))","v":1},1,0.1,{"$f":"INT((10^(Values!$F$13)-10^(Values!$F$13-1))*RAND()+(10^(Values!$F$13-1)))","v":0},0,1,{"$f":"10^(INT((Values!$F$13-1)*RAND())+1)","v":1},1,0,0,0,"0.0"]
[46,")","46)",{"$f":"INT(((Values!$F$8-1)*RAND()+2))","v":1},2,0.01,{"$f":"INT((10^(Values!$F$13)-10^(Values!$F$13-1))*RAND()+(10^(Values!$F$13-1)))","v":0},0,1,{"$f":"10^(INT((Values!$F$13-1)*RAND())+1)","v":1},1,-1,0,0,".00"]
[47,")","47)",{"$f":"INT(((Values!$F$8-1)*RAND()+2))","v":1},1,0.1,{"$f":"INT((10^(Values!$F$13)-10^(Values!$F$13-1))*RAND()+(10^(Values!$F$13-1)))","v":0},0,1,{"$f":"10^(INT((Values!$F$13-1)*RAND())+1)","v":1},1,0,0,0,"0.0"]
[48,")","48)",{"$f":"INT(((Values!$F$8-1)*RAND()+2))","v":1},1,0.1,{"$f":"INT((10^(Values!$F$13)-10^(Values!$F$13-1))*RAND()+(10^(Values!$F$13-1)))","v":0},0,1,{"$f":"10^(INT((Values!$F$13-1)*RAND())+1)","v":1},1,0,0,0,"0.0"]
[49,")","49)",{"$f":"INT(((Values!$F$8-1)*RAND()+2))","v":1},2,0.01,{"$f":"INT((10^(Values!$F$13)-10^(Values!$F$13-1))*RAND()+(10^(Values!$F$13-1)))","v":0},0,1,{"$f":"10^(INT((Values!$F$13-1)*RAND())+1)","v":1},1,-1,0,0,".00"]
[50,")","50)",{"$f":"INT(((Values!$F$8-1)*RAND()+2))","v":1},2,0.01,{"$f":"INT((10^(Values!$F$13)-10^(Values!$F$13-1))*RAND()+(10^(Values!$F$13-1)))","v":0},0,1,{"$f":"10^(INT((Values!$F$13-1)*RAND())+1)","v":1},1,-1,0,0,".00"]
[51,")","51)",{"$f":"INT(((Values!$F$8-1)*RAND()+2))","v":1},1,0.1,{"$f":"INT((10^(Values!$F$13)-10^(Values!$F$13-1))*RAND()+(10^(Values!$F$13-1)))","v":0},0,1,{"$f":"10^(INT((Values!$F$13-1)*RAND())+1)","v":1},1,0,0,0,"0.0"]
[52,")","52)",{"$f":"INT(((Values!$F$8-1)*RAND()+2))","v":1},1,0.1,{"$f":"INT((10^(Values!$F$13)-10^(Values!$F$13-1))*RAND()+(10^(Values!$F$13-1)))","v":0},0,1,{"$f":"10^(INT((Values!$F$13-1)*RAND())+1)","v":1},1,0,0,0,"0.0"]
[53,")","53)",{"$f":"INT(((Values!$F$8-1)*RAND()+2))","v":1},1,0.1,{"$f":"INT((10^(Values!$F$13)-10^(Values!$F$13-1))*RAND()+(10^(Values!$F$13-1)))","v":0},0,1,{"$f":"10^(INT((Values!$F$13-1)*RAND())+1)","v":1},1,0,0,0,"0.0"]
[54,")","54)",{"$f":"INT(((Values!$F$8-1)*RAND()+2))","v":1},2,0.01,{"$f":"INT((10^(Values!$F$13)-10^(Values!$F$13-1))*RAND()+(10^(Values!$F$13-1)))","v":0},0,1,{"$f":"10^(INT((Values!$F$13-1)*RAND())+1)","v":1},1,-1,0,0,".00"]
[55,")","55)",{"$f":"INT(((Values!$F$8-1)*RAND()+2))","v":1},1,0.1,{"$f":"INT((10^(Values!$F$13)-10^(Values!$F$13-1))*RAND()+(10^(Values!$F$13-1)))","v":0},0,1,{"$f":"10^(INT((Values!$F$13-1)*RAND())+1)","v":1},1,0,0,0,"0.0"]
[56,")","56)",{"$f":"INT(((Values!$F$8-1)*RAND()+2))","v":1},1,0.1,{"$f":"INT((10^(Values!$F$13)-10^(Values!$F$13-1))*RAND()+(10^(Values!$F$13-1)))","v":0},0,1,{"$f":"10^(INT((Values!$F$13-1)*RAND())+1)","v":1},1,0,0,0,"0.0"]
[57,")","57)",{"$f":"INT(((Values!$F$8-1)*RAND()+2))","v":1},1,0.1,{"$f":"INT((10^(Values!$F$13)-10^(Values!$F$13-1))*RAND()+(10^(Values!$F$13-1)))","v":0},0,1,{"$f":"10^(INT((Values!$F$13-1)*RAND())+1)","v":1},1,0,0,0,"0.0"]
[58,")","58)",{"$f":"INT(((Values!$F$8-1)*RAND()+2))","v":1},2,0.01,{"$f":"INT((10^(Values!$F$13)-10^(Values!$F$13-1))*RAND()+(10^(Values!$F$13-1)))","v":0},0,1,{"$f":"10^(INT((Values!$F$13-1)*RAND())+1)","v":1},1,-1,0,0,".00"]
[59,")","59)",{"$f":"INT(((Values!$F$8-1)*RAND()+2))","v":1},2,0.01,{"$f":"INT((10^(Values!$F$13)-10^(Values!$F$13-1))*RAND()+(10^(Values!$F$13-1)))","v":0},0,1,{"$f":"10^(INT((Values!$F$13-1)*RAND())+1)","v":1},1,-1,0,0,".00"]
[60,")","60)",{"$f":"INT(((Values!$F$8-1)*RAND()+2))","v":1},2,0.01,{"$f":"INT((10^(Values!$F$13)-10^(Values!$F$13-1))*RAND()+(10^(Values!$F$13-1)))","v":0},0,1,{"$f":"10^(INT((Values!$F$13-1)*RAND())+1)","v":1},1,-1,0,0,".00"]
[61,")","61)",{"$f":"INT(((Values!$F$8-1)*RAND()+2))","v":1},1,0.1,{"$f":"INT((10^(Values!$F$13)-10^(Values!$F$13-1))*RAND()+(10^(Values!$F$13-1)))","v":0},0,1,{"$f":"10^(INT((Values!$F$13-1)*RAND())+1)","v":1},1,0,0,0,"0.0"]
[62,")","62)",{"$f":"INT(((Values!$F$8-1)*RAND()+2))","v":1},1,0.1,{"$f":"INT((10^(Values!$F$13)-10^(Values!$F$13-1))*RAND()+(10^(Values!$F$13-1)))","v":0},0,1,{"$f":"10^(INT((Values!$F$13-1)*RAND())+1)","v":1},1,0,0,0,"0.0"]
[63,")","63)",{"$f":"INT(((Values!$F$8-1)*RAND()+2))","v":1},2,0.01,{"$f":"INT((10^(Values!$F$13)-10^(Values!$F$13-1))*RAND()+(10^(Values!$F$13-1)))","v":0},0,1,{"$f":"10^(INT((Values!$F$13-1)*RAND())+1)","v":1},1,-1,0,0,".00"]
[64,")","64)",{"$f":"INT(((Values!$F$8-1)*RAND()+2))","v":1},1,0.1,{"$f":"INT((10^(Values!$F$13)-10^(Values!$F$13-1))*RAND()+(10^(Values!$F$13-1)))","v":0},0,1,{"$f":"10^(INT((Values!$F$13-1)*RAND())+1)","v":1},1,0,0,0,"0.0"]
[65,")","65)",{"$f":"INT(((Values!$F$8-1)*RAND()+2))","v":1},1,0.1,{"$f":"INT((10^(Values!$F$13)-10^(Values!$F$13-1))*RAND()+(10^(Values!$F$13-1)))","v":0},0,1,{"$f":"10^(INT((Values!$F$13-1)*RAND())+1)","v":1},1,0,0,0,"0.0"]
[66,")",{"$f":"CONCATENATE(A69,B69)","v":"66)"},{"$f":"INT(((Values!$F$8-1)*RAND()+2))","v":1},{"$f":"INT(2*RAND()+1)","v":1},{"$f":"D69*10^(-E69)","v":0.1},{"$f":"INT((10^(Values!$F$13)-10^(Values!$F$13-1))*RAND()+(10^(Values!$F$13-1)))","v":0},{"$f":"D69*G69","v":0},{"$f":"LEN(H69)","v":1},{"$f":"10^(INT((Values!$F$13-1)*RAND())+1)","v":1},{"$f":"LEN(J69-1)","v":1},{"$f":"I69-K69-E69 +1","v":0},{"$f":"G69/J69","v":0},{"$f":"IF(INT(M69)=M69,M69/10,M69)","v":0},{"$f":"IF(L69>1,REPLACE(H69,L69,0,\".\"),IF(L69=1,REPLACE(CONCATENATE(0,H69),L69+1,0,\".\"),REPLACE(CONCATENATE(0,H69),L69+2,0,\".\")))","v":"0.0"}]
[67,")","67)",{"$f":"INT(((Values!$F$8-1)*RAND()+2))","v":1},1,0.1,{"$f":"INT((10^(Values!$F$13)-10^(Values!$F$13-1))*RAND()+(10^(Values!$F$13-1)))","v":0},0,1,{"$f":"10^(INT((Values!$F$13-1)*RAND())+1)","v":1},1,0,0,0,"0.0"]
[68,")","68)",{"$f":"INT(((Values!$F$8-1)*RAND()+2))","v":1},1,0.1,{"$f":"INT((10^(Values!$F$13)-10^(Values!$F$13-1))*RAND()+(10^(Values!$F$13-1)))","v":0},0,1,{"$f":"10^(INT((Values!$F$13-1)*RAND())+1)","v":1},1,0,0,0,"0.0"]
[69,")","69)",{"$f":"INT(((Values!$F$8-1)*RAND()+2))","v":1},2,0.01,{"$f":"INT((10^(Values!$F$13)-10^(Values!$F$13-1))*RAND()+(10^(Values!$F$13-1)))","v":0},0,1,{"$f":"10^(INT((Values!$F$13-1)*RAND())+1)","v":1},1,-1,0,0,".00"]
[70,")","70)",{"$f":"INT(((Values!$F$8-1)*RAND()+2))","v":1},1,0.1,{"$f":"INT((10^(Values!$F$13)-10^(Values!$F$13-1))*RAND()+(10^(Values!$F$13-1)))","v":0},0,1,{"$f":"10^(INT((Values!$F$13-1)*RAND())+1)","v":1},1,0,0,0,"0.0"]
[71,")","71)",{"$f":"INT(((Values!$F$8-1)*RAND()+2))","v":1},2,0.01,{"$f":"INT((10^(Values!$F$13)-10^(Values!$F$13-1))*RAND()+(10^(Values!$F$13-1)))","v":0},0,1,{"$f":"10^(INT((Values!$F$13-1)*RAND())+1)","v":1},1,-1,0,0,".00"]
[72,")","72)",{"$f":"INT(((Values!$F$8-1)*RAND()+2))","v":1},2,0.01,{"$f":"INT((10^(Values!$F$13)-10^(Values!$F$13-1))*RAND()+(10^(Values!$F$13-1)))","v":0},0,1,{"$f":"10^(INT((Values!$F$13-1)*RAND())+1)","v":1},1,-1,0,0,".00"]
[73,")","73)",{"$f":"INT(((Values!$F$8-1)*RAND()+2))","v":1},2,0.01,{"$f":"INT((10^(Values!$F$13)-10^(Values!$F$13-1))*RAND()+(10^(Values!$F$13-1)))","v":0},0,1,{"$f":"10^(INT((Values!$F$13-1)*RAND())+1)","v":1},1,-1,0,0,".00"]
[74,")","74)",{"$f":"INT(((Values!$F$8-1)*RAND()+2))","v":1},1,0.1,{"$f":"INT((10^(Values!$F$13)-10^(Values!$F$13-1))*RAND()+(10^(Values!$F$13-1)))","v":0},0,1,{"$f":"10^(INT((Values!$F$13-1)*RAND())+1)","v":1},1,0,0,0,"0.0"]
[75,")","75)",{"$f":"INT(((Values!$F$8-1)*RAND()+2))","v":1},1,0.1,{"$f":"INT((10^(Values!$F$13)-10^(Values!$F$13-1))*RAND()+(10^(Values!$F$13-1)))","v":0},0,1,{"$f":"10^(INT((Values!$F$13-1)*RAND())+1)","v":1},1,0,0,0,"0.0"]
[76,")","76)",{"$f":"INT(((Values!$F$8-1)*RAND()+2))","v":1},2,0.01,{"$f":"INT((10^(Values!$F$13)-10^(Values!$F$13-1))*RAND()+(10^(Values!$F$13-1)))","v":0},0,1,{"$f":"10^(INT((Values!$F$13-1)*RAND())+1)","v":1},1,-1,0,0,".00"]
[77,")","77)",{"$f":"INT(((Values!$F$8-1)*RAND()+2))","v":1},2,0.01,{"$f":"INT((10^(Values!$F$13)-10^(Values!$F$13-1))*RAND()+(10^(Values!$F$13-1)))","v":0},0,1,{"$f":"10^(INT((Values!$F$13-1)*RAND())+1)","v":1},1,-1,0,0,".00"]
[78,")","78)",{"$f":"INT(((Values!$F$8-1)*RAND()+2))","v":1},2,0.01,{"$f":"INT((10^(Values!$F$13)-10^(Values!$F$13-1))*RAND()+(10^(Values!$F$13-1)))","v":0},0,1,{"$f":"10^(INT((Values!$F$13-1)*RAND())+1)","v":1},1,-1,0,0,".00"]
[79,")","79)",{"$f":"INT(((Values!$F$8-1)*RAND()+2))","v":1},2,0.01,{"$f":"INT((10^(Values!$F$13)-10^(Values!$F$13-1))*RAND()+(10^(Values!$F$13-1)))","v":0},0,1,{"$f":"10^(INT((Values!$F$13-1)*RAND())+1)","v":1},1,-1,0,0,".00"]
[80,")","80)",{"$f":"INT(((Values!$F$8-1)*RAND()+2))","v":1},1,0.1,{"$f":"INT((10^(Values!$F$13)-10^(Values!$F$13-1))*RAND()+(10^(Values!$F$13-1)))","v":0},0,1,{"$f":"10^(INT((Values!$F$13-1)*RAND())+1)","v":1},1,0,0,0,"0.0"]
[81,")","81)",{"$f":"INT(((Values!$F$8-1)*RAND()+2))","v":1},1,0.1,{"$f":"INT((10^(Values!$F$13)-10^(Values!$F$13-1))*RAND()+(10^(Values!$F$13-1)))","v":0},0,1,{"$f":"10^(INT((Values!$F$13-1)*RAND())+1)","v":1},1,0,0,0,"0.0"]
[82,")","82)",{"$f":"INT(((Values!$F$8-1)*RAND()+2))","v":1},2,0.01,{"$f":"INT((10^(Values!$F$13)-10^(Values!$F$13-1))*RAND()+(10^(Values!$F$13-1)))","v":0},0,1,{"$f":"10^(INT((Values!$F$13-1)*RAND())+1)","v":1},1,-1,0,0,".00"]
[83,")","83)",{"$f":"INT(((Values!$F$8-1)*RAND()+2))","v":1},1,0.1,{"$f":"INT((10^(Values!$F$13)-10^(Values!$F$13-1))*RAND()+(10^(Values!$F$13-1)))","v":0},0,1,{"$f":"10^(INT((Values!$F$13-1)*RAND())+1)","v":1},1,0,0,0,"0.0"]
[84,")","84)",{"$f":"INT(((Values!$F$8-1)*RAND()+2))","v":1},2,0.01,{"$f":"INT((10^(Values!$F$13)-10^(Values!$F$13-1))*RAND()+(10^(Values!$F$13-1)))","v":0},0,1,{"$f":"10^(INT((Values!$F$13-1)*RAND())+1)","v":1},1,-1,0,0,".00"]
[85,")","85)",{"$f":"INT(((Values!$F$8-1)*RAND()+2))","v":1},1,0.1,{"$f":"INT((10^(Values!$F$13)-10^(Values!$F$13-1))*RAND()+(10^(Values!$F$13-1)))","v":0},0,1,{"$f":"10^(INT((Values!$F$13-1)*RAND())+1)","v":1},1,0,0,0,"0.0"]
[86,")","86)",{"$f":"INT(((Values!$F$8-1)*RAND()+2))","v":1},1,0.1,{"$f":"INT((10^(Values!$F$13)-10^(Values!$F$13-1))*RAND()+(10^(Values!$F$13-1)))","v":0},0,1,{"$f":"10^(INT((Values!$F$13-1)*RAND())+1)","v":1},1,0,0,0,"0.0"]
[87,")","87)",{"$f":"INT(((Values!$F$8-1)*RAND()+2))","v":1},1,0.1,{"$f":"INT((10^(Values!$F$13)-10^(Values!$F$13-1))*RAND()+(10^(Values!$F$13-1)))","v":0},0,1,{"$f":"10^(INT((Values!$F$13-1)*RAND())+1)","v":1},1,0,0,0,"0.0"]
[88,")","88)",{"$f":"INT(((Values!$F$8-1)*RAND()+2))","v":1},2,0.01,{"$f":"INT((10^(Values!$F$13)-10^(Values!$F$13-1))*RAND()+(10^(Values!$F$13-1)))","v":0},0,1,{"$f":"10^(INT((Values!$F$13-1)*RAND())+1)","v":1},1,-1,0,0,".00"]
[89,")","89)",{"$f":"INT(((Values!$F$8-1)*RAND()+2))","v":1},1,0.1,{"$f":"INT((10^(Values!$F$13)-10^(Values!$F$13-1))*RAND()+(10^(Values!$F$13-1)))","v":0},0,1,{"$f":"10^(INT((Values!$F$13-1)*RAND())+1)","v":1},1,0,0,0,"0.0"]
[90,")","90)",{"$f":"INT(((Values!$F$8-1)*RAND()+2))","v":1},2,0.01,{"$f":"INT((10^(Values!$F$13)-10^(Values!$F$13-1))*RAND()+(10^(Values!$F$13-1)))","v":0},0,1,{"$f":"10^(INT((Values!$F$13-1)*RAND())+1)","v":1},1,-1,0,0,".00"]
[91,")","91)",{"$f":"INT(((Values!$F$8-1)*RAND()+2))","v":1},1,0.1,{"$f":"INT((10^(Values!$F$13)-10^(Values!$F$13-1))*RAND()+(10^(Values!$F$13-1)))","v":0},0,1,{"$f":"10^(INT((Values!$F$13-1)*RAND())+1)","v":1},1,0,0,0,"0.0"]
[92,")","92)",{"$f":"INT(((Values!$F$8-1)*RAND()+2))","v":1},2,0.01,{"$f":"INT((10^(Values!$F$13)-10^(Values!$F$13-1))*RAND()+(10^(Values!$F$13-1)))","v":0},0,1,{"$f":"10^(INT((Values!$F$13-1)*RAND())+1)","v":1},1,-1,0,0,".00"]
[93,")","93)",{"$f":"INT(((Values!$F$8-1)*RAND()+2))","v":1},1,0.1,{"$f":"INT((10^(Values!$F$13)-10^(Values!$F$13-1))*RAND()+(10^(Values!$F$13-1)))","v":0},0,1,{"$f":"10^(INT((Values!$F$13-1)*RAND())+1)","v":1},1,0,0,0,"0.0"]
[94,")","94)",{"$f":"INT(((Values!$F$8-1)*RAND()+2))","v":1},1,0.1,{"$f":"INT((10^(Values!$F$13)-10^(Values!$F$13-1))*RAND()+(10^(Values!$F$13-1)))","v":0},0,1,{"$f":"10^(INT((Values!$F$13-1)*RAND())+1)","v":1},1,0,0,0,"0.0"]
[95,")","95)",{"$f":"INT(((Values!$F$8-1)*RAND()+2))","v":1},1,0.1,{"$f":"INT((10^(Values!$F$13)-10^(Values!$F$13-1))*RAND()+(10^(Values!$F$13-1)))","v":0},0,1,{"$f":"10^(INT((Values!$F$13-1)*RAND())+1)","v":1},1,0,0,0,"0.0"]
[96,")","96)",{"$f":"INT(((Values!$F$8-1)*RAND()+2))","v":1},1,0.1,{"$f":"INT((10^(Values!$F$13)-10^(Values!$F$13-1))*RAND()+(10^(Values!$F$13-1)))","v":0},0,1,{"$f":"10^(INT((Values!$F$13-1)*RAND())+1)","v":1},1,0,0,0,"0.0"]
[97,")","97)",{"$f":"INT(((Values!$F$8-1)*RAND()+2))","v":1},1,0.1,{"$f":"INT((10^(Values!$F$13)-10^(Values!$F$13-1))*RAND()+(10^(Values!$F$13-1)))","v":0},0,1,{"$f":"10^(INT((Values!$F$13-1)*RAND())+1)","v":1},1,0,0,0,"0.0"]
[98,")","98)",{"$f":"INT(((Values!$F$8-1)*RAND()+2))","v":1},1,0.1,{"$f":"INT((10^(Values!$F$13)-10^(Values!$F$13-1))*RAND()+(10^(Values!$F$13-1)))","v":0},0,1,{"$f":"10^(INT((Values!$F$13-1)*RAND())+1)","v":1},1,0,0,0,"0.0"]
[99,")","99)",{"$f":"INT(((Values!$F$8-1)*RAND()+2))","v":1},2,0.01,{"$f":"INT((10^(Values!$F$13)-10^(Values!$F$13-1))*RAND()+(10^(Values!$F$13-1)))","v":0},0,1,{"$f":"10^(INT((Values!$F$13-1)*RAND())+1)","v":1},1,-1,0,0,".00"]
[100,")","100)",{"$f":"INT(((Values!$F$8-1)*RAND()+2))","v":1},1,0.1,{"$f":"INT((10^(Values!$F$13)-10^(Values!$F$13-1))*RAND()+(10^(Values!$F$13-1)))","v":0},0,1,{"$f":"10^(INT((Values!$F$13-1)*RAND())+1)","v":1},1,0,0,0,"0.0"]