{"text_format":"1","workbook":"xlsx","n_sheets":4,"sheets":["Values","WorkSheet","Answers","Working"],"not_rendered":{"charts":0,"images":0,"macros":1,"external_links":0,"defined_names":0,"comments":0,"pivot_tables":0},"unopened":[],"bounds":{"document_bytes":16777216,"sheet_cells":100000,"rows_first":2000,"rows_last":500,"rows_between":2000,"halvings":0,"cell_chars":16384,"cell_head_chars":4096},"cells_cut":0,"cells_raw":0,"read":"whole","date_system":"1900"}

{"sheet":"Values","index":0,"n_rows":17,"n_cols":9,"rows_kept":17,"cut":false,"hidden":false,"merged":[[12,2,12,4],[14,2,14,6],[14,8,18,9],[16,2,19,7],[3,2,3,6],[5,2,6,7],[7,2,7,4],[9,2,10,7]]}
[null,null,null,null,"MULTIPLICATION"]
[null,null,null,null,"of decimals by a whole number"]
[]
[null,null,"INSTRUCTIONS"]
[]
[null,"Step 1","Enter the maximum number to be used in the digit of the multiplier, a number from 2 to 9. This avoids issues with times tables."]
[]
[null,null,"Maximum Multiplier"]
[]
[null,"Step 2","Enter the number digits to be used in the multiplicand for this sheet. (A whole number >1 and ≤6)"]
[]
[]
[null,null,"Digits in Multiplicand",null,null,null,null,"NOTE:","A multiplicand is the number that is being multiplied"]
[]
[null,"Step 3","Click on WorkSheet tab below.",null,null,null,null,null,"PRESS F9 for NEW WorkSheet"]
[]
[null,"Note","If you hold down shift then click on the WorkSheet tab and the Answers tab, you will be able to print both the WorkSheet and the solutions."]

{"sheet":"WorkSheet","index":1,"n_rows":33,"n_cols":12,"rows_kept":33,"cut":false,"hidden":false,"merged":[]}
[null,null,null,null,null,"MULTIPLICATION"]
[null,null,null,null,null,null,null,null,null,{"$f":"CONCATENATE(\"Worksheet \",Working!C1,Working!B1)","v":"Worksheet SMD-472"}]
["Evaluate the following;"]
[{"$f":"Working!C4","v":"1)"},{"$f":"Working!L4","v":0.1},"×",{"$f":"Working!$C12","v":"9)"},{"$f":"Working!$L12","v":0.1},"×",{"$f":"Working!$C20","v":"17)"},{"$f":"Working!$L20","v":0.1},"×",{"$f":"Working!$C28","v":"25)"},{"$f":"Working!$L28","v":0.1},"×"]
[null,{"$f":"Working!D4","v":2},null,null,{"$f":"Working!$D12","v":2},null,null,{"$f":"Working!$D20","v":2},null,null,{"$f":"Working!$D28","v":2}]
[]
[]
[{"$f":"Working!C5","v":"2)"},{"$f":"Working!L5","v":0.1},"×",{"$f":"Working!$C13","v":"10)"},{"$f":"Working!$L13","v":0.1},"×",{"$f":"Working!$C21","v":"18)"},{"$f":"Working!$L21","v":0.1},"×",{"$f":"Working!$C29","v":"26)"},{"$f":"Working!$L29","v":0.1},"×"]
[null,{"$f":"Working!D5","v":2},null,null,{"$f":"Working!$D13","v":2},null,null,{"$f":"Working!$D21","v":2},null,null,{"$f":"Working!$D29","v":2}]
[]
[]
[{"$f":"Working!C6","v":"3)"},{"$f":"Working!L6","v":0.1},"×",{"$f":"Working!$C14","v":"11)"},{"$f":"Working!$L14","v":0.1},"×",{"$f":"Working!$C22","v":"19)"},{"$f":"Working!$L22","v":0.1},"×",{"$f":"Working!$C30","v":"27)"},{"$f":"Working!$L30","v":0.1},"×"]
[null,{"$f":"Working!D6","v":2},null,null,{"$f":"Working!$D14","v":2},null,null,{"$f":"Working!$D22","v":2},null,null,{"$f":"Working!$D30","v":2}]
[]
[]
[{"$f":"Working!C7","v":"4)"},{"$f":"Working!L7","v":0.1},"×",{"$f":"Working!$C15","v":"12)"},{"$f":"Working!$L15","v":0.1},"×",{"$f":"Working!$C23","v":"20)"},{"$f":"Working!$L23","v":0.1},"×",{"$f":"Working!$C31","v":"28)"},{"$f":"Working!$L31","v":0.1},"×"]
[null,{"$f":"Working!D7","v":2},null,null,{"$f":"Working!$D15","v":2},null,null,{"$f":"Working!$D23","v":2},null,null,{"$f":"Working!$D31","v":2}]
[]
[]
[{"$f":"Working!C8","v":"5)"},{"$f":"Working!L8","v":0.1},"×",{"$f":"Working!$C16","v":"13)"},{"$f":"Working!$L16","v":0.1},"×",{"$f":"Working!$C24","v":"21)"},{"$f":"Working!$L24","v":0.1},"×",{"$f":"Working!$C32","v":"29)"},{"$f":"Working!$L32","v":0.1},"×"]
[null,{"$f":"Working!D8","v":2},null,null,{"$f":"Working!$D16","v":2},null,null,{"$f":"Working!$D24","v":2},null,null,{"$f":"Working!$D32","v":2}]
[]
[]
[{"$f":"Working!C9","v":"6)"},{"$f":"Working!L9","v":0.1},"×",{"$f":"Working!$C17","v":"14)"},{"$f":"Working!$L17","v":0.1},"×",{"$f":"Working!$C25","v":"22)"},{"$f":"Working!$L25","v":0.1},"×",{"$f":"Working!$C33","v":"30)"},{"$f":"Working!$L33","v":0.1},"×"]
[null,{"$f":"Working!D9","v":2},null,null,{"$f":"Working!$D17","v":2},null,null,{"$f":"Working!$D25","v":2},null,null,{"$f":"Working!$D33","v":2}]
[]
[]
[{"$f":"Working!C10","v":"7)"},{"$f":"Working!L10","v":0.1},"×",{"$f":"Working!$C18","v":"15)"},{"$f":"Working!$L18","v":0.1},"×",{"$f":"Working!$C26","v":"23)"},{"$f":"Working!$L26","v":0.1},"×"]
[null,{"$f":"Working!D10","v":2},null,null,{"$f":"Working!$D18","v":2},null,null,{"$f":"Working!$D26","v":2}]
[]
[]
[{"$f":"Working!C11","v":"8)"},{"$f":"Working!L11","v":0.1},"×",{"$f":"Working!$C19","v":"16)"},{"$f":"Working!$L19","v":0.1},"×",{"$f":"Working!$C27","v":"24)"},{"$f":"Working!$L27","v":0.1},"×"]
[null,{"$f":"Working!D11","v":2},null,null,{"$f":"Working!$D19","v":2},null,null,{"$f":"Working!$D27","v":2}]

{"sheet":"Answers","index":2,"n_rows":34,"n_cols":12,"rows_kept":34,"cut":false,"hidden":false,"merged":[]}
[null,null,null,null,null,"MULTIPLICATION"]
[null,null,null,null,null,"ANSWERS",null,null,null,{"$f":"CONCATENATE(\"Worksheet \",Working!C1,Working!B1)","v":"Worksheet SMD-472"}]
["Evaluate the following;"]
[{"$f":"Working!C4","v":"1)"},{"$f":"Working!L4","v":0.1},"×",{"$f":"Working!$C12","v":"9)"},{"$f":"Working!$L12","v":0.1},"×",{"$f":"Working!$C20","v":"17)"},{"$f":"Working!$L20","v":0.1},"×",{"$f":"Working!$C28","v":"25)"},{"$f":"Working!$L28","v":0.1},"×"]
[null,{"$f":"Working!D4","v":2},null,null,{"$f":"Working!$D12","v":2},null,null,{"$f":"Working!$D20","v":2},null,null,{"$f":"Working!$D28","v":2}]
[null,{"$f":"Working!N4","v":"0.2"},null,null,{"$f":"Working!$N12","v":"0.2"},null,null,{"$f":"Working!$N20","v":"0.2"},null,null,{"$f":"Working!$N28","v":"0.2"}]
[]
[{"$f":"Working!C5","v":"2)"},{"$f":"Working!L5","v":0.1},"×",{"$f":"Working!$C13","v":"10)"},{"$f":"Working!$L13","v":0.1},"×",{"$f":"Working!$C21","v":"18)"},{"$f":"Working!$L21","v":0.1},"×",{"$f":"Working!$C29","v":"26)"},{"$f":"Working!$L29","v":0.1},"×"]
[null,{"$f":"Working!D5","v":2},null,null,{"$f":"Working!$D13","v":2},null,null,{"$f":"Working!$D21","v":2},null,null,{"$f":"Working!$D29","v":2}]
[null,{"$f":"Working!N5","v":"0.2"},null,null,{"$f":"Working!$N13","v":"0.2"},null,null,{"$f":"Working!$N21","v":"0.2"},null,null,{"$f":"Working!$N29","v":"0.2"}]
[]
[{"$f":"Working!C6","v":"3)"},{"$f":"Working!L6","v":0.1},"×",{"$f":"Working!$C14","v":"11)"},{"$f":"Working!$L14","v":0.1},"×",{"$f":"Working!$C22","v":"19)"},{"$f":"Working!$L22","v":0.1},"×",{"$f":"Working!$C30","v":"27)"},{"$f":"Working!$L30","v":0.1},"×"]
[null,{"$f":"Working!D6","v":2},null,null,{"$f":"Working!$D14","v":2},null,null,{"$f":"Working!$D22","v":2},null,null,{"$f":"Working!$D30","v":2}]
[null,{"$f":"Working!N6","v":"0.2"},null,null,{"$f":"Working!$N14","v":"0.2"},null,null,{"$f":"Working!$N22","v":"0.2"},null,null,{"$f":"Working!$N30","v":"0.2"}]
[]
[{"$f":"Working!C7","v":"4)"},{"$f":"Working!L7","v":0.1},"×",{"$f":"Working!$C15","v":"12)"},{"$f":"Working!$L15","v":0.1},"×",{"$f":"Working!$C23","v":"20)"},{"$f":"Working!$L23","v":0.1},"×",{"$f":"Working!$C31","v":"28)"},{"$f":"Working!$L31","v":0.1},"×"]
[null,{"$f":"Working!D7","v":2},null,null,{"$f":"Working!$D15","v":2},null,null,{"$f":"Working!$D23","v":2},null,null,{"$f":"Working!$D31","v":2}]
[null,{"$f":"Working!N7","v":"0.2"},null,null,{"$f":"Working!$N15","v":"0.2"},null,null,{"$f":"Working!$N23","v":"0.2"},null,null,{"$f":"Working!$N31","v":"0.2"}]
[]
[{"$f":"Working!C8","v":"5)"},{"$f":"Working!L8","v":0.1},"×",{"$f":"Working!$C16","v":"13)"},{"$f":"Working!$L16","v":0.1},"×",{"$f":"Working!$C24","v":"21)"},{"$f":"Working!$L24","v":0.1},"×",{"$f":"Working!$C32","v":"29)"},{"$f":"Working!$L32","v":0.1},"×"]
[null,{"$f":"Working!D8","v":2},null,null,{"$f":"Working!$D16","v":2},null,null,{"$f":"Working!$D24","v":2},null,null,{"$f":"Working!$D32","v":2}]
[null,{"$f":"Working!N8","v":"0.2"},null,null,{"$f":"Working!$N16","v":"0.2"},null,null,{"$f":"Working!$N24","v":"0.2"},null,null,{"$f":"Working!$N32","v":"0.2"}]
[]
[{"$f":"Working!C9","v":"6)"},{"$f":"Working!L9","v":0.1},"×",{"$f":"Working!$C17","v":"14)"},{"$f":"Working!$L17","v":0.1},"×",{"$f":"Working!$C25","v":"22)"},{"$f":"Working!$L25","v":0.1},"×",{"$f":"Working!$C33","v":"30)"},{"$f":"Working!$L33","v":0.1},"×"]
[null,{"$f":"Working!D9","v":2},null,null,{"$f":"Working!$D17","v":2},null,null,{"$f":"Working!$D25","v":2},null,null,{"$f":"Working!$D33","v":2}]
[null,{"$f":"Working!N9","v":"0.2"},null,null,{"$f":"Working!$N17","v":"0.2"},null,null,{"$f":"Working!$N25","v":"0.2"},null,null,{"$f":"Working!$N33","v":"0.2"}]
[]
[{"$f":"Working!C10","v":"7)"},{"$f":"Working!L10","v":0.1},"×",{"$f":"Working!$C18","v":"15)"},{"$f":"Working!$L18","v":0.1},"×",{"$f":"Working!$C26","v":"23)"},{"$f":"Working!$L26","v":0.1},"×"]
[null,{"$f":"Working!D10","v":2},null,null,{"$f":"Working!$D18","v":2},null,null,{"$f":"Working!$D26","v":2}]
[null,{"$f":"Working!N10","v":"0.2"},null,null,{"$f":"Working!$N18","v":"0.2"},null,null,{"$f":"Working!$N26","v":"0.2"}]
[]
[{"$f":"Working!C11","v":"8)"},{"$f":"Working!L11","v":0.1},"×",{"$f":"Working!$C19","v":"16)"},{"$f":"Working!$L19","v":0.1},"×",{"$f":"Working!$C27","v":"24)"},{"$f":"Working!$L27","v":0.1},"×"]
[null,{"$f":"Working!D11","v":2},null,null,{"$f":"Working!$D19","v":2},null,null,{"$f":"Working!$D27","v":2}]
[null,{"$f":"Working!N11","v":"0.2"},null,null,{"$f":"Working!$N19","v":"0.2"},null,null,{"$f":"Working!$N27","v":"0.2"}]

{"sheet":"Working","index":3,"n_rows":33,"n_cols":15,"rows_kept":33,"cut":false,"hidden":true,"merged":[[1,11,1,13],[1,14,1,20]]}
[{"$f":"INT(900*RAND()+100)","v":472},{"$f":"TEXT(1,A1)","v":"472"},"SMD-"]
[null,null,null,null,null,null,null,null,null,null,null,"Numbers",null,null,"Text"]
[null,null,null,"Multiplier",null,null,null,null,null,null,null,"Multiplicand",null,"Product"]
[1,")",{"$f":"CONCATENATE(A4,B4)","v":"1)"},{"$f":"INT((Values!$F$8*RAND()+2))","v":2},{"$f":"INT(Values!$F$13*RAND())+1","v":1},{"$f":"10^E4","v":10},{"$f":"INT((10^(Values!$F$13)-10^(Values!$F$13-1))*RAND()+(10^(Values!$F$13-1)))","v":0},{"$f":"IF(INT(G4/10)=G4/10,G4+1,G4)","v":1},{"$f":"D4*H4","v":2},{"$f":"LEN(I4)","v":1},{"$f":"H4/F4","v":0.1},{"$f":"H4/F4","v":0.1},{"$f":"J4-E4+1","v":1},{"$f":"IF(M4>1,REPLACE(I4,M4,0,\".\"),IF(M4=1,REPLACE(CONCATENATE(0,I4),M4+1,0,\".\"),REPLACE(CONCATENATE(0,I4),M4+2,0,\".\")))","v":"0.2"}]
[2,")",{"$f":"CONCATENATE(A5,B5)","v":"2)"},{"$f":"INT((Values!$F$8*RAND()+2))","v":2},{"$f":"INT(Values!$F$13*RAND())+1","v":1},{"$f":"10^E5","v":10},{"$f":"INT((10^(Values!$F$13)-10^(Values!$F$13-1))*RAND()+(10^(Values!$F$13-1)))","v":0},{"$f":"IF(INT(G5/10)=G5/10,G5+1,G5)","v":1},{"$f":"D5*H5","v":2},{"$f":"LEN(I5)","v":1},{"$f":"H5/F5","v":0.1},{"$f":"H5/F5","v":0.1},{"$f":"J5-E5+1","v":1},{"$f":"IF(M5>1,REPLACE(I5,M5,0,\".\"),IF(M5=1,REPLACE(CONCATENATE(0,I5),M5+1,0,\".\"),REPLACE(CONCATENATE(0,I5),M5+2,0,\".\")))","v":"0.2"}]
[3,")","3)",{"$f":"INT((Values!$F$8*RAND()+2))","v":2},{"$f":"INT(Values!$F$13*RAND())+1","v":1},10,{"$f":"INT((10^(Values!$F$13)-10^(Values!$F$13-1))*RAND()+(10^(Values!$F$13-1)))","v":0},1,2,1,0.1,0.1,1,"0.2"]
[4,")","4)",{"$f":"INT((Values!$F$8*RAND()+2))","v":2},{"$f":"INT(Values!$F$13*RAND())+1","v":1},10,{"$f":"INT((10^(Values!$F$13)-10^(Values!$F$13-1))*RAND()+(10^(Values!$F$13-1)))","v":0},1,2,1,0.1,0.1,1,"0.2"]
[5,")","5)",{"$f":"INT((Values!$F$8*RAND()+2))","v":2},{"$f":"INT(Values!$F$13*RAND())+1","v":1},10,{"$f":"INT((10^(Values!$F$13)-10^(Values!$F$13-1))*RAND()+(10^(Values!$F$13-1)))","v":0},1,2,1,0.1,0.1,1,"0.2"]
[6,")","6)",{"$f":"INT((Values!$F$8*RAND()+2))","v":2},{"$f":"INT(Values!$F$13*RAND())+1","v":1},10,{"$f":"INT((10^(Values!$F$13)-10^(Values!$F$13-1))*RAND()+(10^(Values!$F$13-1)))","v":0},1,2,1,0.1,0.1,1,"0.2"]
[7,")","7)",{"$f":"INT((Values!$F$8*RAND()+2))","v":2},{"$f":"INT(Values!$F$13*RAND())+1","v":1},10,{"$f":"INT((10^(Values!$F$13)-10^(Values!$F$13-1))*RAND()+(10^(Values!$F$13-1)))","v":0},1,2,1,0.1,0.1,1,"0.2"]
[8,")","8)",{"$f":"INT((Values!$F$8*RAND()+2))","v":2},{"$f":"INT(Values!$F$13*RAND())+1","v":1},10,{"$f":"INT((10^(Values!$F$13)-10^(Values!$F$13-1))*RAND()+(10^(Values!$F$13-1)))","v":0},1,2,1,0.1,0.1,1,"0.2"]
[9,")","9)",{"$f":"INT((Values!$F$8*RAND()+2))","v":2},{"$f":"INT(Values!$F$13*RAND())+1","v":1},10,{"$f":"INT((10^(Values!$F$13)-10^(Values!$F$13-1))*RAND()+(10^(Values!$F$13-1)))","v":0},1,2,1,0.1,0.1,1,"0.2"]
[10,")","10)",{"$f":"INT((Values!$F$8*RAND()+2))","v":2},{"$f":"INT(Values!$F$13*RAND())+1","v":1},10,{"$f":"INT((10^(Values!$F$13)-10^(Values!$F$13-1))*RAND()+(10^(Values!$F$13-1)))","v":0},1,2,1,0.1,0.1,1,"0.2"]
[11,")","11)",{"$f":"INT((Values!$F$8*RAND()+2))","v":2},{"$f":"INT(Values!$F$13*RAND())+1","v":1},10,{"$f":"INT((10^(Values!$F$13)-10^(Values!$F$13-1))*RAND()+(10^(Values!$F$13-1)))","v":0},1,2,1,0.1,0.1,1,"0.2"]
[12,")","12)",{"$f":"INT((Values!$F$8*RAND()+2))","v":2},{"$f":"INT(Values!$F$13*RAND())+1","v":1},10,{"$f":"INT((10^(Values!$F$13)-10^(Values!$F$13-1))*RAND()+(10^(Values!$F$13-1)))","v":0},1,2,1,0.1,0.1,1,"0.2"]
[13,")","13)",{"$f":"INT((Values!$F$8*RAND()+2))","v":2},{"$f":"INT(Values!$F$13*RAND())+1","v":1},10,{"$f":"INT((10^(Values!$F$13)-10^(Values!$F$13-1))*RAND()+(10^(Values!$F$13-1)))","v":0},1,2,1,0.1,0.1,1,"0.2"]
[14,")","14)",{"$f":"INT((Values!$F$8*RAND()+2))","v":2},{"$f":"INT(Values!$F$13*RAND())+1","v":1},10,{"$f":"INT((10^(Values!$F$13)-10^(Values!$F$13-1))*RAND()+(10^(Values!$F$13-1)))","v":0},1,2,1,0.1,0.1,1,"0.2"]
[15,")","15)",{"$f":"INT((Values!$F$8*RAND()+2))","v":2},{"$f":"INT(Values!$F$13*RAND())+1","v":1},10,{"$f":"INT((10^(Values!$F$13)-10^(Values!$F$13-1))*RAND()+(10^(Values!$F$13-1)))","v":0},1,2,1,0.1,0.1,1,"0.2"]
[16,")","16)",{"$f":"INT((Values!$F$8*RAND()+2))","v":2},{"$f":"INT(Values!$F$13*RAND())+1","v":1},10,{"$f":"INT((10^(Values!$F$13)-10^(Values!$F$13-1))*RAND()+(10^(Values!$F$13-1)))","v":0},1,2,1,0.1,0.1,1,"0.2"]
[17,")","17)",{"$f":"INT((Values!$F$8*RAND()+2))","v":2},{"$f":"INT(Values!$F$13*RAND())+1","v":1},10,{"$f":"INT((10^(Values!$F$13)-10^(Values!$F$13-1))*RAND()+(10^(Values!$F$13-1)))","v":0},1,2,1,0.1,0.1,1,"0.2"]
[18,")","18)",{"$f":"INT((Values!$F$8*RAND()+2))","v":2},{"$f":"INT(Values!$F$13*RAND())+1","v":1},10,{"$f":"INT((10^(Values!$F$13)-10^(Values!$F$13-1))*RAND()+(10^(Values!$F$13-1)))","v":0},1,2,1,0.1,0.1,1,"0.2"]
[19,")","19)",{"$f":"INT((Values!$F$8*RAND()+2))","v":2},{"$f":"INT(Values!$F$13*RAND())+1","v":1},10,{"$f":"INT((10^(Values!$F$13)-10^(Values!$F$13-1))*RAND()+(10^(Values!$F$13-1)))","v":0},1,2,1,0.1,0.1,1,"0.2"]
[20,")","20)",{"$f":"INT((Values!$F$8*RAND()+2))","v":2},{"$f":"INT(Values!$F$13*RAND())+1","v":1},10,{"$f":"INT((10^(Values!$F$13)-10^(Values!$F$13-1))*RAND()+(10^(Values!$F$13-1)))","v":0},1,2,1,0.1,0.1,1,"0.2"]
[21,")","21)",{"$f":"INT((Values!$F$8*RAND()+2))","v":2},{"$f":"INT(Values!$F$13*RAND())+1","v":1},10,{"$f":"INT((10^(Values!$F$13)-10^(Values!$F$13-1))*RAND()+(10^(Values!$F$13-1)))","v":0},1,2,1,0.1,0.1,1,"0.2"]
[22,")","22)",{"$f":"INT((Values!$F$8*RAND()+2))","v":2},{"$f":"INT(Values!$F$13*RAND())+1","v":1},10,{"$f":"INT((10^(Values!$F$13)-10^(Values!$F$13-1))*RAND()+(10^(Values!$F$13-1)))","v":0},1,2,1,0.1,0.1,1,"0.2"]
[23,")","23)",{"$f":"INT((Values!$F$8*RAND()+2))","v":2},{"$f":"INT(Values!$F$13*RAND())+1","v":1},10,{"$f":"INT((10^(Values!$F$13)-10^(Values!$F$13-1))*RAND()+(10^(Values!$F$13-1)))","v":0},1,2,1,0.1,0.1,1,"0.2"]
[24,")","24)",{"$f":"INT((Values!$F$8*RAND()+2))","v":2},{"$f":"INT(Values!$F$13*RAND())+1","v":1},10,{"$f":"INT((10^(Values!$F$13)-10^(Values!$F$13-1))*RAND()+(10^(Values!$F$13-1)))","v":0},1,2,1,0.1,0.1,1,"0.2"]
[25,")","25)",{"$f":"INT((Values!$F$8*RAND()+2))","v":2},{"$f":"INT(Values!$F$13*RAND())+1","v":1},10,{"$f":"INT((10^(Values!$F$13)-10^(Values!$F$13-1))*RAND()+(10^(Values!$F$13-1)))","v":0},1,2,1,0.1,0.1,1,"0.2"]
[26,")","26)",{"$f":"INT((Values!$F$8*RAND()+2))","v":2},{"$f":"INT(Values!$F$13*RAND())+1","v":1},10,{"$f":"INT((10^(Values!$F$13)-10^(Values!$F$13-1))*RAND()+(10^(Values!$F$13-1)))","v":0},1,2,1,0.1,0.1,1,"0.2"]
[27,")","27)",{"$f":"INT((Values!$F$8*RAND()+2))","v":2},{"$f":"INT(Values!$F$13*RAND())+1","v":1},10,{"$f":"INT((10^(Values!$F$13)-10^(Values!$F$13-1))*RAND()+(10^(Values!$F$13-1)))","v":0},1,2,1,0.1,0.1,1,"0.2"]
[28,")","28)",{"$f":"INT((Values!$F$8*RAND()+2))","v":2},{"$f":"INT(Values!$F$13*RAND())+1","v":1},10,{"$f":"INT((10^(Values!$F$13)-10^(Values!$F$13-1))*RAND()+(10^(Values!$F$13-1)))","v":0},1,2,1,0.1,0.1,1,"0.2"]
[29,")","29)",{"$f":"INT((Values!$F$8*RAND()+2))","v":2},{"$f":"INT(Values!$F$13*RAND())+1","v":1},10,{"$f":"INT((10^(Values!$F$13)-10^(Values!$F$13-1))*RAND()+(10^(Values!$F$13-1)))","v":0},1,2,1,0.1,0.1,1,"0.2"]
[30,")","30)",{"$f":"INT((Values!$F$8*RAND()+2))","v":2},{"$f":"INT(Values!$F$13*RAND())+1","v":1},10,{"$f":"INT((10^(Values!$F$13)-10^(Values!$F$13-1))*RAND()+(10^(Values!$F$13-1)))","v":0},1,2,1,0.1,0.1,1,"0.2"]